BEGIN:VCALENDAR
VERSION:2.0
PRODID:-//Kita Sennfeld - ECPv6.15.17//NONSGML v1.0//EN
CALSCALE:GREGORIAN
METHOD:PUBLISH
X-WR-CALNAME:Kita Sennfeld
X-ORIGINAL-URL:https://kathkitasennfeld.de
X-WR-CALDESC:Veranstaltungen für Kita Sennfeld
REFRESH-INTERVAL;VALUE=DURATION:PT1H
X-Robots-Tag:noindex
X-PUBLISHED-TTL:PT1H
BEGIN:VTIMEZONE
TZID:Europe/Berlin
BEGIN:DAYLIGHT
TZOFFSETFROM:+0100
TZOFFSETTO:+0200
TZNAME:CEST
DTSTART:20240331T010000
END:DAYLIGHT
BEGIN:STANDARD
TZOFFSETFROM:+0200
TZOFFSETTO:+0100
TZNAME:CET
DTSTART:20241027T010000
END:STANDARD
BEGIN:DAYLIGHT
TZOFFSETFROM:+0100
TZOFFSETTO:+0200
TZNAME:CEST
DTSTART:20250330T010000
END:DAYLIGHT
BEGIN:STANDARD
TZOFFSETFROM:+0200
TZOFFSETTO:+0100
TZNAME:CET
DTSTART:20251026T010000
END:STANDARD
BEGIN:DAYLIGHT
TZOFFSETFROM:+0100
TZOFFSETTO:+0200
TZNAME:CEST
DTSTART:20260329T010000
END:DAYLIGHT
BEGIN:STANDARD
TZOFFSETFROM:+0200
TZOFFSETTO:+0100
TZNAME:CET
DTSTART:20261025T010000
END:STANDARD
BEGIN:DAYLIGHT
TZOFFSETFROM:+0100
TZOFFSETTO:+0200
TZNAME:CEST
DTSTART:20270328T010000
END:DAYLIGHT
BEGIN:STANDARD
TZOFFSETFROM:+0200
TZOFFSETTO:+0100
TZNAME:CET
DTSTART:20271031T010000
END:STANDARD
END:VTIMEZONE
BEGIN:VEVENT
DTSTART;VALUE=DATE:20250901
DTEND;VALUE=DATE:20260901
DTSTAMP:20260423T125428
CREATED:20250809T112353Z
LAST-MODIFIED:20250811T084455Z
UID:10000119-1756684800-1788220799@kathkitasennfeld.de
SUMMARY:Termine Kita-Jahr 2025/2026
DESCRIPTION:
URL:https://kathkitasennfeld.de/event/1-treffen-der-grossen-wir-sind-sonnenkinder-copy/
LOCATION:Katholische KiTa St. Elisabeth / Sennfeld\, Flachsleite 38\, 97526 Sennfeld
ATTACH;FMTTYPE=image/jpeg:https://kathkitasennfeld.de/wp-content/uploads/2024/01/calendar-1990453_640.jpg
END:VEVENT
END:VCALENDAR